BEGIN:VCALENDAR
VERSION:2.0
PRODID:DPCALENDAR
CALSCALE:GREGORIAN
METHOD:PUBLISH
X-WR-TIMEZONE:UTC
BEGIN:VEVENT
DTSTART:20260606T160000Z
DTEND:20260606T210000Z
UID:4ded2dc45949f362d07a9c66e1223f90
SUMMARY:Annual General Meeting Saturday, June 6th
DTSTAMP:20230515T1344480
DESCRIPTION:\n	Bridge Manitoba will be holding its Annual General Meeting at Soul Sanctuary on Saturday, June 6th. If you are interested in a position on the board, please contact any board member by no later than May 23rd.\n\n	 \n
X-ALT-DESC;FMTTYPE=text/html:<p>	<span style="color: rgb(87, 87, 87); font-family: &quot;Times New Roman&quot;, Times, serif; font-size: 18px; text-align: justify;">Bridge Manitoba will be holding its Annual General Meeting at Soul Sanctuary on Saturday, June 6th. If you are interested in a position on the board, please contact any board member by no later than May 23rd.</span></p><div>	&nbsp;</div>
LOCATION:2050 Chevrier Boulevard, R3Y0T3 Winnipeg, Manitoba, Canada
GEO:49.8198;-97.1857
X-ACCESS:1
X-MODIFIED:20260418T235726Z
X-HITS:17
X-URL:
X-COLOR:FF2A12
END:VEVENT
END:VCALENDAR